BEGIN:VCALENDAR
VERSION:2.0
PRODID:-//Aguirre &amp; Fields - ECPv6.15.20//NONSGML v1.0//EN
CALSCALE:GREGORIAN
METHOD:PUBLISH
X-ORIGINAL-URL:https://www.aguirre-fields.com
X-WR-CALDESC:Events for Aguirre &amp; Fields
REFRESH-INTERVAL;VALUE=DURATION:PT1H
X-Robots-Tag:noindex
X-PUBLISHED-TTL:PT1H
BEGIN:VTIMEZONE
TZID:America/Chicago
BEGIN:DAYLIGHT
TZOFFSETFROM:-0600
TZOFFSETTO:-0500
TZNAME:CDT
DTSTART:20240310T080000
END:DAYLIGHT
BEGIN:STANDARD
TZOFFSETFROM:-0500
TZOFFSETTO:-0600
TZNAME:CST
DTSTART:20241103T070000
END:STANDARD
BEGIN:DAYLIGHT
TZOFFSETFROM:-0600
TZOFFSETTO:-0500
TZNAME:CDT
DTSTART:20250309T080000
END:DAYLIGHT
BEGIN:STANDARD
TZOFFSETFROM:-0500
TZOFFSETTO:-0600
TZNAME:CST
DTSTART:20251102T070000
END:STANDARD
BEGIN:DAYLIGHT
TZOFFSETFROM:-0600
TZOFFSETTO:-0500
TZNAME:CDT
DTSTART:20260308T080000
END:DAYLIGHT
BEGIN:STANDARD
TZOFFSETFROM:-0500
TZOFFSETTO:-0600
TZNAME:CST
DTSTART:20261101T070000
END:STANDARD
END:VTIMEZONE
BEGIN:VEVENT
DTSTART;VALUE=DATE:20250909
DTEND;VALUE=DATE:20250912
DTSTAMP:20260423T041338
CREATED:20250411T204454Z
LAST-MODIFIED:20250411T204454Z
UID:4843-1757376000-1757635199@www.aguirre-fields.com
SUMMARY:OML Conference
DESCRIPTION:
URL:https://www.aguirre-fields.com/event/oml-conference/
LOCATION:Oklahoma City Convention Center\, 100 Mick Cornett Dr\, Oklahoma City\, 73109\, United States
END:VEVENT
BEGIN:VEVENT
DTSTART;TZID=America/Chicago:20250910T100000
DTEND;TZID=America/Chicago:20250910T100000
DTSTAMP:20260423T041338
CREATED:20250908T201506Z
LAST-MODIFIED:20250908T202355Z
UID:4858-1757498400-1757498400@www.aguirre-fields.com
SUMMARY:The University of Texas Engineering Expo
DESCRIPTION:
URL:https://www.aguirre-fields.com/event/university-of-texas-engineering-expo/
LOCATION:Rec Sports Center\, 2001 San Jacinto Blvd\, Austin\, TX\, 78712\, United States
END:VEVENT
BEGIN:VEVENT
DTSTART;TZID=America/Chicago:20250911T120000
DTEND;TZID=America/Chicago:20250911T170000
DTSTAMP:20260423T041338
CREATED:20250908T202325Z
LAST-MODIFIED:20250908T202821Z
UID:4859-1757592000-1757610000@www.aguirre-fields.com
SUMMARY:The University of Oklahoma Engineering Career Fair
DESCRIPTION:
URL:https://www.aguirre-fields.com/event/the-university-of-oklahoma-engineering-career-fair/
LOCATION:Lloyd Noble Center\, 2900 South Jenkins Avenue\, Norman\, OK\, 73019\, United States
END:VEVENT
BEGIN:VEVENT
DTSTART;TZID=America/Chicago:20250917T090000
DTEND;TZID=America/Chicago:20250917T160000
DTSTAMP:20260423T041338
CREATED:20250812T175157Z
LAST-MODIFIED:20250908T203257Z
UID:4853-1758099600-1758124800@www.aguirre-fields.com
SUMMARY:Texas A&M University ASCE Career Fair - Fall 2025
DESCRIPTION:
URL:https://www.aguirre-fields.com/event/texas-am-university-asce-career-fair-fall-2025/
LOCATION:Zachry Engineering Center\, 125 Spence St\, College Station\, 77843\, United States
END:VEVENT
BEGIN:VEVENT
DTSTART;TZID=America/Chicago:20250923T090000
DTEND;TZID=America/Chicago:20250923T153000
DTSTAMP:20260423T041338
CREATED:20250908T202633Z
LAST-MODIFIED:20250908T202633Z
UID:4860-1758618000-1758641400@www.aguirre-fields.com
SUMMARY:Oklahoma State University CEAT Career Fair
DESCRIPTION:
URL:https://www.aguirre-fields.com/event/oklahoma-state-university-ceat-career-fair-2/
LOCATION:Gallagher-Iba Arena\, Athletic Center\, 200\, Stillwater\, OK\, 74078\, United States
END:VEVENT
END:VCALENDAR